BEGIN:VCALENDAR
VERSION:2.0
PRODID:-//dev-schuepfen.gemeinde.ch//NONSGML kigkonsult.se iCalcreator 2.22
 //
CALSCALE:GREGORIAN
METHOD:PUBLISH
X-WR-TIMEZONE:Europe/Berlin
BEGIN:VEVENT
UID:20260423T184455CEST-7769fBp8up@dev-schuepfen.gemeinde.ch
DTSTAMP:20260423T164455Z
DESCRIPTION:Klicken Sie auf den folgenden Link\, um weitere Informationen z
 ur Veranstaltung zu erhalten:\nhttp://dev-schuepfen.gemeinde.ch/de/veranst
 altungen/detail/detail.php?i=519
DTSTART:20260502T100000
DTEND:20260502T160000
LOCATION:Seniorenzentrum Schüpfen
SUMMARY:Letzte Hilfe Kurs
END:VEVENT
END:VCALENDAR
