BEGIN:VCALENDAR
VERSION:2.0
PRODID:-//dev-schuepfen.gemeinde.ch//NONSGML kigkonsult.se iCalcreator 2.22
 //
CALSCALE:GREGORIAN
METHOD:PUBLISH
X-WR-TIMEZONE:Europe/Berlin
BEGIN:VEVENT
UID:20260423T202345CEST-3557vxnhCV@dev-schuepfen.gemeinde.ch
DTSTAMP:20260423T182345Z
DESCRIPTION:Klicken Sie auf den folgenden Link\, um weitere Informationen z
 ur Veranstaltung zu erhalten:\nhttp://dev-schuepfen.gemeinde.ch/de/veranst
 altungen/detail/detail.php?i=518
DTSTART:20260504T133000
DTEND:20260504T170000
LOCATION:Schüpfen & Umgebung
SUMMARY:Wandergruppe
END:VEVENT
END:VCALENDAR
