BEGIN:VCALENDAR
VERSION:2.0
PRODID:-//dev-schuepfen.gemeinde.ch//NONSGML kigkonsult.se iCalcreator 2.22
 //
CALSCALE:GREGORIAN
METHOD:PUBLISH
X-WR-TIMEZONE:Europe/Berlin
BEGIN:VEVENT
UID:20260423T184414CEST-1180HDG33N@dev-schuepfen.gemeinde.ch
DTSTAMP:20260423T164414Z
DESCRIPTION:Klicken Sie auf den folgenden Link\, um weitere Informationen z
 ur Veranstaltung zu erhalten:\nhttp://dev-schuepfen.gemeinde.ch/de/veranst
 altungen/detail/detail.php?i=263
DTSTART:20260502T180000
DTEND:20260502T213000
LOCATION:Dorfplatz bei der Gemeindeverwaltung
SUMMARY:Dorfrundgang mit Fahrrad
END:VEVENT
END:VCALENDAR
